BEGIN:VCALENDAR
VERSION:2.0
PRODID:spatie/icalendar-generator
DESCRIPTION:Évènements de Club Archimède Neuilly sur Marne
X-WR-CALDESC:Évènements de Club Archimède Neuilly sur Marne
REFRESH-INTERVAL;VALUE=DURATION:PT1440M
X-PUBLISHED-TTL:PT1440M
BEGIN:VTIMEZONE
TZID:Europe/Paris
BEGIN:STANDARD
DTSTART:20251026T030000Z
TZOFFSETFROM:+0200
TZOFFSETTO:+0100
END:STANDARD
BEGIN:DAYLIGHT
DTSTART:20260329T020000Z
TZOFFSETFROM:+0100
TZOFFSETTO:+0200
END:DAYLIGHT
END:VTIMEZONE
BEGIN:VTIMEZONE
TZID:UTC
BEGIN:STANDARD
DTSTART:20250726T015222Z
TZOFFSETFROM:+0000
TZOFFSETTO:+0000
END:STANDARD
END:VTIMEZONE
BEGIN:VEVENT
UID:191-101
DTSTAMP:20260422T015222Z
SUMMARY:Nage
LOCATION:
ORGANIZER;CN=patrice:MAILTO:patrice.dubus@wanadoo.fr
RRULE:FREQ=WEEKLY;UNTIL=20260411T000000Z
DTSTART;TZID=Europe/Paris:20260327T200000
DTEND;TZID=Europe/Paris:20260327T220000
X-ALT-DESC;FMTTYPE=TEXT/HTML:
CATEGORIES:Nage
URL;VALUE=URI:https://www.club-archimede.com/mc-events/nage-4/?mc_id=191
METHOD:PUBLISH
END:VEVENT
END:VCALENDAR